BEGIN:VCALENDAR
VERSION:2.0
PRODID:-//Southam Parish Council//Meeting Calendar//EN
CALSCALE:GREGORIAN
METHOD:PUBLISH
BEGIN:VEVENT
UID:71024-20260512@southam-pc.gov.uk
DTSTAMP:20260423T083330Z
DTSTART;VALUE=DATE:20260512
DTEND;VALUE=DATE:20260513
SUMMARY:Southam Parish Council AGM
DESCRIPTION:Annual Parish Meeting\nView details: https://southam-pc.gov.uk/meetings/southam-parish-council-agm-2/
URL:https://southam-pc.gov.uk/meetings/southam-parish-council-agm-2/
END:VEVENT
END:VCALENDAR
